BEGIN:VCALENDAR
VERSION:2.0
PRODID:-//Falappa Medical Devices - ECPv6.15.20//NONSGML v1.0//EN
CALSCALE:GREGORIAN
METHOD:PUBLISH
X-WR-CALNAME:Falappa Medical Devices
X-ORIGINAL-URL:https://fmd-dental.com/en/
X-WR-CALDESC:Events for Falappa Medical Devices
REFRESH-INTERVAL;VALUE=DURATION:PT1H
X-Robots-Tag:noindex
X-PUBLISHED-TTL:PT1H
BEGIN:VTIMEZONE
TZID:UTC
BEGIN:STANDARD
TZOFFSETFROM:+0000
TZOFFSETTO:+0000
TZNAME:UTC
DTSTART:20180101T000000
END:STANDARD
END:VTIMEZONE
BEGIN:VEVENT
DTSTART;VALUE=DATE:20190208
DTEND;VALUE=DATE:20190209
DTSTAMP:20260425T141519
CREATED:20200729T074217Z
LAST-MODIFIED:20200729T074217Z
UID:3546-1549584000-1549670399@fmd-dental.com
SUMMARY:Elevation of the Maxillary Sinus Pavement by Crestal Way
DESCRIPTION:
URL:https://fmd-dental.com/en/evento/elevation-of-the-maxillary-sinus-pavement-by-crestal-way-2/
END:VEVENT
END:VCALENDAR